BEGIN:VCALENDAR
VERSION:2.0
PRODID:-//wp-events-plugin.com//7.2.3.1//EN
TZID:Europe/Berlin
X-WR-TIMEZONE:Europe/Berlin
BEGIN:VEVENT
UID:10@tv-hilsbach.de
DTSTART;TZID=Europe/Berlin:20240413T100000
DTEND;TZID=Europe/Berlin:20240413T120000
DTSTAMP:20240327T174258Z
URL:https://www.tv-hilsbach.de/events/arbeitseinsatz-13-04-2024/
SUMMARY:Arbeitseinsatz 13.04.2024
DESCRIPTION:Liebe Vereinsmitglieder\,\n\nvor der Saisoneröffnung ist noch 
 vieles zu tun.\n\nWir müssen unser Clubhaus sauber machen\, die Netze und
  Windfänge aufhängen\, Bänke rausstellen\, Terrasse und Regenrinnen sä
 ubern\, Sträucher zurückschneiden\, Unkraut entfernen u.v.m.\n\nHierfür
  benötigen wir eure Unterstützung.\n\nFür die Abrechnung der Arbeitsstu
 nden findet ihr das Formular auf unserer Homepage unter www.tv-hilsbach.de
 /downloads\n\nTermin für den Arbeitseinsatz ist Samstag\, 13. April 2024 
 - Treffpunkt um 10 Uhr beim Vereinsgelände.\n\nWer noch nicht um 10 Uhr k
 ommen kann\, findet bestimmt auch später noch Arbeit.\n\nVielen Dank für
  eure Unterstützung\nEuer Vorstandsteam\n\n&nbsp\;\n\nPS: Wer die Informa
 tionen gerne über WhatsApp bekommen möchte\, kann seine WhatsApp-Nummer 
 per Mail an erster_Vorstand@tv-hilsbach.de schicken mit der Bitte um "Aufn
 ahme in die TV Hilsbach WhatsApp-Gruppe".
END:VEVENT
BEGIN:VTIMEZONE
TZID:Europe/Berlin
X-LIC-LOCATION:Europe/Berlin
BEGIN:DAYLIGHT
DTSTART:20240331T030000
TZOFFSETFROM:+0100
TZOFFSETTO:+0200
TZNAME:CEST
END:DAYLIGHT
END:VTIMEZONE
END:VCALENDAR